BEGIN:VCALENDAR
VERSION:2.0
PRODID:-//jEvents 2.0 for Joomla//EN
CALSCALE:GREGORIAN
METHOD:PUBLISH
BEGIN:VEVENT
UID:b55a81807c83e2d2ddc252436f1af1ee
CATEGORIES:Komunitní portál
CREATED:20230904T082850
SUMMARY:KS Senioři
LOCATION:Zasedací místnost-budova A3 ( na Valech 6)
DESCRIPTION:
CONTACT:Valérie Némethyová +420 412 593 172 
DTSTAMP:20260419T171101
DTSTART:20230921T110000
DTEND:20230921T123000
SEQUENCE:0
TRANSP:OPAQUE
END:VEVENT
END:VCALENDAR