BEGIN:VCALENDAR
VERSION:2.0
PRODID:-//jEvents 2.0 for Joomla//EN
CALSCALE:GREGORIAN
METHOD:PUBLISH
BEGIN:VEVENT
UID:575d958d6972d39da6655c694a773258
CATEGORIES:Komunitní portál
CREATED:20231030T153931
SUMMARY:KS Osoby v krizi
LOCATION:Malá ZM-budova B1 (ul. 28.října 1155/2)
DESCRIPTION:
CONTACT:Valérie Némethyová +420 605 012 004 
DTSTAMP:20260425T160123
DTSTART:20231130T080000
DTEND:20231130T100000
SEQUENCE:0
TRANSP:OPAQUE
END:VEVENT
END:VCALENDAR