BEGIN:VCALENDAR
VERSION:2.0
PRODID:-//jEvents 2.0 for Joomla//EN
CALSCALE:GREGORIAN
METHOD:PUBLISH
BEGIN:VEVENT
UID:d2bf5351cfc29cbed0dc8b912f80c48d
CATEGORIES:Komunitní portál
CREATED:20240131T170548
SUMMARY:KS Senioři
LOCATION:Zasedací místnost-budova A3 ( na Valech 6)
DESCRIPTION:
CONTACT:Valérie Némethy +420 605 012 004; valerie.nemethy@mmdecin.cz 
DTSTAMP:20260422T074324
DTSTART:20240229T120000
DTEND:20240229T133000
SEQUENCE:0
TRANSP:OPAQUE
END:VEVENT
END:VCALENDAR