BEGIN:VCALENDAR
VERSION:2.0
PRODID:-//jEvents 2.0 for Joomla//EN
CALSCALE:GREGORIAN
METHOD:PUBLISH
BEGIN:VEVENT
UID:67273e54357cee653f3e39c665b12eec
CATEGORIES:Komunitní portál
CREATED:20240223T075540
SUMMARY:KS Osoby se zdravotním postižením
LOCATION:Zasedací místnost-budova A3 ( na Valech 6)
DESCRIPTION:
CONTACT:Valérie Némethy +420 605 012 004; valerie.nemethy@mmdecin.cz 
DTSTAMP:20260424T062907
DTSTART:20240529T110000
DTEND:20240529T123000
SEQUENCE:0
TRANSP:OPAQUE
END:VEVENT
END:VCALENDAR