BEGIN:VCALENDAR
VERSION:2.0
PRODID:-//jEvents 2.0 for Joomla//EN
CALSCALE:GREGORIAN
METHOD:PUBLISH
BEGIN:VEVENT
UID:13c3974f4fc10f2bf4aae2258af89f74
CATEGORIES:Komunitní portál
CREATED:20240223T075937
SUMMARY:KS Osoby v krizi
LOCATION:Malá ZM-budova B1 (ul. 28.října 1155/2)
DESCRIPTION:
DTSTAMP:20260425T142257
DTSTART:20240530T070000
DTEND:20240530T083000
SEQUENCE:0
TRANSP:OPAQUE
END:VEVENT
END:VCALENDAR