BEGIN:VCALENDAR
VERSION:2.0
PRODID:-//jEvents 2.0 for Joomla//EN
CALSCALE:GREGORIAN
METHOD:PUBLISH
BEGIN:VEVENT
UID:f7a84396d8f7b3b55cb5b7b51d60bc6d
CATEGORIES:Komunitní portál
CREATED:20250127T090220
SUMMARY:Jednání KS Senioři
DESCRIPTION:
DTSTAMP:20260420T154110
DTSTART:20250313T120000
DTEND:20250313T140000
SEQUENCE:0
TRANSP:OPAQUE
END:VEVENT
END:VCALENDAR