BEGIN:VCALENDAR
VERSION:2.0
PRODID:-//jEvents 2.0 for Joomla//EN
CALSCALE:GREGORIAN
METHOD:PUBLISH
BEGIN:VEVENT
UID:bb9e27b01c467eec9052a86e14380b2d
CATEGORIES:Komunitní portál
CREATED:20250127T090455
SUMMARY:Jednání KS Senioři
DESCRIPTION:
DTSTAMP:20260419T215338
DTSTART:20250403T110000
DTEND:20250403T130000
SEQUENCE:0
TRANSP:OPAQUE
END:VEVENT
END:VCALENDAR