BEGIN:VCALENDAR
VERSION:2.0
PRODID:-//jEvents 2.0 for Joomla//EN
CALSCALE:GREGORIAN
METHOD:PUBLISH
BEGIN:VEVENT
UID:e8504e134cdbfb869992c099f0d4f22c
CATEGORIES:Komunitní portál
CREATED:20250127T090649
SUMMARY:Jednání KS Osoby v krizi
DESCRIPTION:
DTSTAMP:20260420T162951
DTSTART:20250410T070000
DTEND:20250410T090000
SEQUENCE:0
TRANSP:OPAQUE
END:VEVENT
END:VCALENDAR