BEGIN:VCALENDAR
VERSION:2.0
PRODID:-//jEvents 2.0 for Joomla//EN
CALSCALE:GREGORIAN
METHOD:PUBLISH
BEGIN:VEVENT
UID:4927479aa16d59a34bb7c8c0c300757c
CATEGORIES:Komunitní portál
CREATED:20250416T104307
SUMMARY:Jednání KS Osoby se zdravotním postižením
DESCRIPTION:
DTSTAMP:20260419T201441
DTSTART:20250903T110000
DTEND:20250903T130000
SEQUENCE:0
TRANSP:OPAQUE
END:VEVENT
END:VCALENDAR