BEGIN:VCALENDAR
VERSION:2.0
PRODID:-//jEvents 2.0 for Joomla//EN
CALSCALE:GREGORIAN
METHOD:PUBLISH
BEGIN:VEVENT
UID:fd22e724072577c4e3ddded229fdddf5
CATEGORIES:Komunitní portál
CREATED:20250416T104515
SUMMARY:Jednání KS Senioři
DESCRIPTION:
DTSTAMP:20260419T201544
DTSTART:20250904T110000
DTEND:20250904T130000
SEQUENCE:0
TRANSP:OPAQUE
END:VEVENT
END:VCALENDAR