BEGIN:VCALENDAR
VERSION:2.0
PRODID:-//jEvents 2.0 for Joomla//EN
CALSCALE:GREGORIAN
METHOD:PUBLISH
BEGIN:VEVENT
UID:9c6c80cf5fd288f9dc4826b13fcd4691
CATEGORIES:Komunitní portál
CREATED:20250416T104605
SUMMARY:Jednání KS Rodiny, děti a mládež
DESCRIPTION:
DTSTAMP:20260419T215448
DTSTART:20250909T110000
DTEND:20250909T130000
SEQUENCE:0
TRANSP:OPAQUE
END:VEVENT
END:VCALENDAR