BEGIN:VCALENDAR
VERSION:2.0
PRODID:-//jEvents 2.0 for Joomla//EN
CALSCALE:GREGORIAN
METHOD:PUBLISH
BEGIN:VEVENT
UID:378dc16d36ed85bc79d00c24a1af46b2
CATEGORIES:Komunitní portál
CREATED:20250430T144951
SUMMARY:Jednání KS Rodiny, děti a mládež
DESCRIPTION:
DTSTAMP:20260420T045900
DTSTART:20251111T120000
DTEND:20251111T140000
SEQUENCE:0
TRANSP:OPAQUE
END:VEVENT
END:VCALENDAR