BEGIN:VCALENDAR
VERSION:2.0
PRODID:-//jEvents 2.0 for Joomla//EN
CALSCALE:GREGORIAN
METHOD:PUBLISH
BEGIN:VEVENT
UID:82dd09f8e38c8126d4f0e94275df9eeb
CATEGORIES:Komunitní portál
CREATED:20250430T145138
SUMMARY:Jednání KS Osoby se zdravotním postižením
DESCRIPTION:
DTSTAMP:20260419T233051
DTSTART:20251203T120000
DTEND:20251203T140000
SEQUENCE:0
TRANSP:OPAQUE
END:VEVENT
END:VCALENDAR