BEGIN:VCALENDAR
VERSION:2.0
PRODID:-//jEvents 2.0 for Joomla//EN
CALSCALE:GREGORIAN
METHOD:PUBLISH
BEGIN:VEVENT
UID:0ffe560aadcefcce45979e3dce6ae8f4
CATEGORIES:Komunitní portál
CREATED:20250430T145228
SUMMARY:Jednání KS Senioři
DESCRIPTION:
DTSTAMP:20260419T194732
DTSTART:20251204T120000
DTEND:20251204T140000
SEQUENCE:0
TRANSP:OPAQUE
END:VEVENT
END:VCALENDAR