BEGIN:VCALENDAR
VERSION:2.0
PRODID:-//jEvents 2.0 for Joomla//EN
CALSCALE:GREGORIAN
METHOD:PUBLISH
BEGIN:VEVENT
UID:3163eeba53a030ae230a270ae390b5c8
CATEGORIES:Komunitní portál
CREATED:20250430T150559
SUMMARY:Jednání KS Osoby v krizi
DESCRIPTION:
DTSTAMP:20260419T162717
DTSTART:20251211T070000
DTEND:20251211T100000
SEQUENCE:0
TRANSP:OPAQUE
END:VEVENT
END:VCALENDAR