BEGIN:VCALENDAR
VERSION:2.0
PRODID:-//jEvents 2.0 for Joomla//EN
CALSCALE:GREGORIAN
METHOD:PUBLISH
BEGIN:VEVENT
UID:9f4ffdfd08b310e389250430c138cf71
CATEGORIES:Komunitní portál
CREATED:20260121T131450
SUMMARY:Koordinační skupina Osoby v krizi
DESCRIPTION:
DTSTAMP:20260421T192927
DTSTART:20260212T080000
DTEND:20260212T100000
SEQUENCE:0
TRANSP:OPAQUE
END:VEVENT
END:VCALENDAR