BEGIN:VCALENDAR
VERSION:2.0
PRODID:-//jEvents 2.0 for Joomla//EN
CALSCALE:GREGORIAN
METHOD:PUBLISH
BEGIN:VEVENT
UID:e484e753ef2777301c9ecd7fe5e382b2
CATEGORIES:Komunitní portál
CREATED:20260121T131617
SUMMARY:Koordinační skupina Osoby v krizi
DESCRIPTION:
DTSTAMP:20260420T024934
DTSTART:20260604T070000
DTEND:20260604T090000
SEQUENCE:0
TRANSP:OPAQUE
END:VEVENT
END:VCALENDAR