BEGIN:VCALENDAR
VERSION:2.0
PRODID:-//jEvents 2.0 for Joomla//EN
CALSCALE:GREGORIAN
METHOD:PUBLISH
BEGIN:VEVENT
UID:5e66b10f3f01281da1f071ca9b5e7a2d
CATEGORIES:Komunitní portál
CREATED:20260121T131823
SUMMARY:Společné jednání KS Rodiny, děti a mládež a Osoby v krizi
DESCRIPTION:
DTSTAMP:20260420T210924
DTSTART:20260514T070000
DTEND:20260513T220000
SEQUENCE:0
TRANSP:OPAQUE
END:VEVENT
END:VCALENDAR