BEGIN:VCALENDAR
VERSION:2.0
PRODID:-//jEvents 2.0 for Joomla//EN
CALSCALE:GREGORIAN
METHOD:PUBLISH
BEGIN:VEVENT
UID:40243a8c34a10e366f9b2b8c493090d7
CATEGORIES:Komunitní portál
CREATED:20230324T073525
SUMMARY:KS Rodiny, děti a mládež
LOCATION:A3 zasedací místnost (přízemí vlevo)
DESCRIPTION:
DTSTAMP:20260421T143328
DTSTART:20230418T110000
DTEND:20230418T130000
SEQUENCE:0
TRANSP:OPAQUE
END:VEVENT
END:VCALENDAR