BEGIN:VCALENDAR
VERSION:2.0
PRODID:-//jEvents 2.0 for Joomla//EN
CALSCALE:GREGORIAN
METHOD:PUBLISH
BEGIN:VEVENT
UID:83dc839def3911d433225adc5ca2d67c
CATEGORIES:Komunitní portál
CREATED:20230424T071019
SUMMARY:KS Rodiny, děti a mládež
LOCATION:A3 zasedací místnost (přízemí vlevo)
DESCRIPTION:
DTSTAMP:20260425T030641
DTSTART:20230516T110000
DTEND:20230516T130000
SEQUENCE:0
TRANSP:OPAQUE
END:VEVENT
END:VCALENDAR