BEGIN:VCALENDAR
VERSION:2.0
PRODID:-//jEvents 2.0 for Joomla//EN
CALSCALE:GREGORIAN
METHOD:PUBLISH
BEGIN:VEVENT
UID:b7a23684ba6dd0a04155680faecbd621
CATEGORIES:Komunitní portál
CREATED:20230424T071425
SUMMARY:KS OZP
LOCATION:A3 zasedací místnost (přízemí vlevo)
DESCRIPTION:
DTSTAMP:20260420T212839
DTSTART:20230517T130000
DTEND:20230517T150000
SEQUENCE:0
TRANSP:OPAQUE
END:VEVENT
END:VCALENDAR