BEGIN:VCALENDAR
VERSION:2.0
PRODID:-//jEvents 2.0 for Joomla//EN
CALSCALE:GREGORIAN
METHOD:PUBLISH
BEGIN:VEVENT
UID:85be812791ccc84d238a5e927f4c1767
CATEGORIES:Komunitní portál
CREATED:20230424T074211
SUMMARY:KS Osoby v krizi
LOCATION:A3 zasedací místnost (přízemí vlevo)
DESCRIPTION:
DTSTAMP:20260424T045621
DTSTART:20230525T070000
DTEND:20230525T090000
SEQUENCE:0
TRANSP:OPAQUE
END:VEVENT
END:VCALENDAR