BEGIN:VCALENDAR
VERSION:2.0
PRODID:-//jEvents 2.0 for Joomla//EN
CALSCALE:GREGORIAN
METHOD:PUBLISH
BEGIN:VEVENT
UID:0947782a17c030bfd85efce8aad25da6
CATEGORIES:Komunitní portál
CREATED:20230904T082623
SUMMARY:KS Osoby se zdravotním postižením
LOCATION:Zasedací místnost-budova A3 ( na Valech 6)
DESCRIPTION:
CONTACT:Valérie Némethyová +420 412 593 172 
DTSTAMP:20260419T154600
DTSTART:20230920T110000
DTEND:20230920T123000
SEQUENCE:0
TRANSP:OPAQUE
END:VEVENT
END:VCALENDAR