BEGIN:VCALENDAR
VERSION:2.0
PRODID:-//jEvents 2.0 for Joomla//EN
CALSCALE:GREGORIAN
METHOD:PUBLISH
BEGIN:VEVENT
UID:257cf745044fc4d104d1ea3e96fc5fff
CATEGORIES:Komunitní portál
CREATED:20230904T082750
SUMMARY:KS Osoby v krizi
LOCATION:Zasedací místnost-budova A3 ( na Valech 6)
DESCRIPTION:
CONTACT:Valérie Némethyová +420 412 593 172 
DTSTAMP:20260419T160242
DTSTART:20230921T070000
DTEND:20230921T083000
SEQUENCE:0
TRANSP:OPAQUE
END:VEVENT
END:VCALENDAR