BEGIN:VCALENDAR
VERSION:2.0
PRODID:-//jEvents 2.0 for Joomla//EN
CALSCALE:GREGORIAN
METHOD:PUBLISH
BEGIN:VEVENT
UID:88d2886b3d4d1aff2895caa8567b0940
CATEGORIES:Komunitní portál
CREATED:20240102T125530
SUMMARY:KS Osoby se zdravotním postižením
LOCATION:Cafe a Bistro Slunečnice (OC Pivovar\, ul Sofijská)
DESCRIPTION:
CONTACT:Valérie Némethy +420 605 012 004; valerie.nemethy@mmdecin.cz 
DTSTAMP:20260421T214610
DTSTART:20240117T120000
DTEND:20240117T133000
SEQUENCE:0
TRANSP:OPAQUE
END:VEVENT
END:VCALENDAR