BEGIN:VCALENDAR
VERSION:2.0
PRODID:-//jEvents 2.0 for Joomla//EN
CALSCALE:GREGORIAN
METHOD:PUBLISH
BEGIN:VEVENT
UID:557284cba4718c0cdf1e16259849a6aa
CATEGORIES:Komunitní portál
CREATED:20240131T170732
SUMMARY:KS Osoby v krizi
LOCATION:Malá ZM-budova B1 (ul. 28.října 1155/2)
DESCRIPTION:
CONTACT:Valérie Némethy +420 605 012 004; valerie.nemethy@mmdecin.cz 
DTSTAMP:20260421T020751
DTSTART:20240222T083000
DTEND:20240222T100000
SEQUENCE:0
TRANSP:OPAQUE
END:VEVENT
END:VCALENDAR