BEGIN:VCALENDAR
VERSION:2.0
PRODID:-//jEvents 2.0 for Joomla//EN
CALSCALE:GREGORIAN
METHOD:PUBLISH
BEGIN:VEVENT
UID:224ccf28f146da40217f72d7936a2a23
CATEGORIES:Komunitní portál
CREATED:20240603T083700
SUMMARY:KS RDM 
LOCATION:Bude upřesněno
DESCRIPTION:
CONTACT:Kristýna Neufusová +420 412 593 172 
DTSTAMP:20260423T095637
DTSTART:20241203T120000
DTEND:20241203T133000
SEQUENCE:0
TRANSP:OPAQUE
END:VEVENT
END:VCALENDAR