BEGIN:VCALENDAR
VERSION:2.0
PRODID:-//jEvents 2.0 for Joomla//EN
CALSCALE:GREGORIAN
METHOD:PUBLISH
BEGIN:VEVENT
UID:eac5d2a6b269e96131c34cce8179542c
CATEGORIES:Komunitní portál
CREATED:20250127T085807
SUMMARY:Jednání KS Rodiny, děti a mládež
DESCRIPTION:
DTSTAMP:20260420T005531
DTSTART:20250304T120000
DTEND:20250304T140000
SEQUENCE:0
TRANSP:OPAQUE
END:VEVENT
END:VCALENDAR