BEGIN:VCALENDAR
VERSION:2.0
PRODID:-//jEvents 2.0 for Joomla//EN
CALSCALE:GREGORIAN
METHOD:PUBLISH
BEGIN:VEVENT
UID:85d1cc0dd52dcd104e8b420bc7126e08
CATEGORIES:Komunitní portál
CREATED:20250127T090550
SUMMARY:Jednání KS Osoby se zdravotním postižením
DESCRIPTION:
DTSTAMP:20260420T105606
DTSTART:20250409T110000
DTEND:20250409T130000
SEQUENCE:0
TRANSP:OPAQUE
END:VEVENT
END:VCALENDAR