BEGIN:VCALENDAR
VERSION:2.0
PRODID:-//jEvents 2.0 for Joomla//EN
CALSCALE:GREGORIAN
METHOD:PUBLISH
BEGIN:VEVENT
UID:0787b30410b2b7a92072f9f4a87781a2
CATEGORIES:Komunitní portál
CREATED:20250127T090732
SUMMARY:Jednání KS Rodiny, děti a mládež
DESCRIPTION:
DTSTAMP:20260419T171143
DTSTART:20250415T110000
DTEND:20250415T130000
SEQUENCE:0
TRANSP:OPAQUE
END:VEVENT
END:VCALENDAR