BEGIN:VCALENDAR
VERSION:2.0
PRODID:-//jEvents 2.0 for Joomla//EN
CALSCALE:GREGORIAN
METHOD:PUBLISH
BEGIN:VEVENT
UID:9800ce56a1372cf928e85cac123e5bdd
CATEGORIES:Komunitní portál
CREATED:20250416T103545
SUMMARY:Společné jednání KS KP - školení ÚP ČR 
DESCRIPTION:
DTSTAMP:20260419T185710
DTSTART:20250515T070000
DTEND:20250515T110000
SEQUENCE:0
TRANSP:OPAQUE
END:VEVENT
END:VCALENDAR