BEGIN:VCALENDAR
VERSION:2.0
PRODID:-//jEvents 2.0 for Joomla//EN
CALSCALE:GREGORIAN
METHOD:PUBLISH
BEGIN:VEVENT
UID:41c6fb31c2a256ff079b4a067f8270d7
CATEGORIES:Komunitní portál
CREATED:20250416T103718
SUMMARY:Jednání KS Osoby se zdravotním postižením
DESCRIPTION:
DTSTAMP:20260419T230956
DTSTART:20250604T110000
DTEND:20250604T130000
SEQUENCE:0
TRANSP:OPAQUE
END:VEVENT
END:VCALENDAR