BEGIN:VCALENDAR
VERSION:2.0
PRODID:-//jEvents 2.0 for Joomla//EN
CALSCALE:GREGORIAN
METHOD:PUBLISH
BEGIN:VEVENT
UID:5a94841defebfeedec984f197ddee154
CATEGORIES:Komunitní portál
CREATED:20250416T103836
SUMMARY:Jednání KS Senioři
DESCRIPTION:
DTSTAMP:20260420T005602
DTSTART:20250605T110000
DTEND:20250605T130000
SEQUENCE:0
TRANSP:OPAQUE
END:VEVENT
END:VCALENDAR