BEGIN:VCALENDAR
VERSION:2.0
PRODID:-//jEvents 2.0 for Joomla//EN
CALSCALE:GREGORIAN
METHOD:PUBLISH
BEGIN:VEVENT
UID:d239a0a2e040969f1d03e87bd9270d12
CATEGORIES:Komunitní portál
CREATED:20250416T103917
SUMMARY:Jednání KS Rodiny, děti a mládež
DESCRIPTION:
DTSTAMP:20260420T120045
DTSTART:20250610T070000
SEQUENCE:0
TRANSP:OPAQUE
END:VEVENT
END:VCALENDAR