BEGIN:VCALENDAR
VERSION:2.0
PRODID:-//jEvents 2.0 for Joomla//EN
CALSCALE:GREGORIAN
METHOD:PUBLISH
BEGIN:VEVENT
UID:9898ce5dcc5c705e62fe80b33fdb96db
CATEGORIES:Komunitní portál
CREATED:20250416T104002
SUMMARY:Jednání KS Osoby v krizi
DESCRIPTION:
DTSTAMP:20260420T155736
DTSTART:20250612T070000
DTEND:20250612T090000
SEQUENCE:0
TRANSP:OPAQUE
END:VEVENT
END:VCALENDAR