BEGIN:VCALENDAR
VERSION:2.0
PRODID:-//jEvents 2.0 for Joomla//EN
CALSCALE:GREGORIAN
METHOD:PUBLISH
BEGIN:VEVENT
UID:631455a3a04c9ecaa71f7d66781e376c
CATEGORIES:Komunitní portál
CREATED:20250416T104652
SUMMARY:Jednání KS Osoby v krizi
DESCRIPTION:
DTSTAMP:20260419T190722
DTSTART:20250911T070000
DTEND:20250911T090000
SEQUENCE:0
TRANSP:OPAQUE
END:VEVENT
END:VCALENDAR