BEGIN:VCALENDAR
VERSION:2.0
PRODID:-//jEvents 2.0 for Joomla//EN
CALSCALE:GREGORIAN
METHOD:PUBLISH
BEGIN:VEVENT
UID:79347ad49ce1f9904ff6e4efad0f0dc9
CATEGORIES:Komunitní portál
CREATED:20250430T144652
SUMMARY:Jednání KS Osoby se zdravotním postižením
DESCRIPTION:
DTSTAMP:20260419T203512
DTSTART:20251105T120000
DTEND:20251105T140000
SEQUENCE:0
TRANSP:OPAQUE
END:VEVENT
END:VCALENDAR