BEGIN:VCALENDAR
VERSION:2.0
PRODID:-//jEvents 2.0 for Joomla//EN
CALSCALE:GREGORIAN
METHOD:PUBLISH
BEGIN:VEVENT
UID:bf2f384a484c23c0557dcdbd816bda04
CATEGORIES:Komunitní portál
CREATED:20250430T144911
SUMMARY:Jednání KS Senioři
DESCRIPTION:
DTSTAMP:20260420T120021
DTSTART:20251106T120000
DTEND:20251106T140000
SEQUENCE:0
TRANSP:OPAQUE
END:VEVENT
END:VCALENDAR