BEGIN:VCALENDAR
VERSION:2.0
PRODID:-//jEvents 2.0 for Joomla//EN
CALSCALE:GREGORIAN
METHOD:PUBLISH
BEGIN:VEVENT
UID:592860b8aef80b278a1db5e370117366
CATEGORIES:Komunitní portál
CREATED:20250430T145033
SUMMARY:Jednání KS Osoby v krizi
DESCRIPTION:
DTSTAMP:20260419T154630
DTSTART:20251113T080000
DTEND:20251113T220000
SEQUENCE:0
TRANSP:OPAQUE
END:VEVENT
END:VCALENDAR