BEGIN:VCALENDAR
VERSION:2.0
PRODID:-//jEvents 2.0 for Joomla//EN
CALSCALE:GREGORIAN
METHOD:PUBLISH
BEGIN:VEVENT
UID:2ff5af3c3482589400618457063c77c4
CATEGORIES:Komunitní portál
CREATED:20250430T145325
SUMMARY:Jednání KS Rodiny, děti a mládež
DESCRIPTION:
DTSTAMP:20260420T180403
DTSTART:20251209T120000
DTEND:20251209T140000
SEQUENCE:0
TRANSP:OPAQUE
END:VEVENT
END:VCALENDAR