BEGIN:VCALENDAR
VERSION:2.0
PRODID:-//jEvents 2.0 for Joomla//EN
CALSCALE:GREGORIAN
METHOD:PUBLISH
BEGIN:VEVENT
UID:29b95da944c0eed59cf32fa4119811fc
CATEGORIES:Komunitní portál
CREATED:20260121T130623
SUMMARY:Koordinační skupina Osoby se zdravotním postižením
DESCRIPTION:
DTSTAMP:20260419T233648
DTSTART:20260204T120000
DTEND:20260204T140000
SEQUENCE:0
TRANSP:OPAQUE
END:VEVENT
END:VCALENDAR