BEGIN:VCALENDAR
VERSION:2.0
PRODID:-//jEvents 2.0 for Joomla//EN
CALSCALE:GREGORIAN
METHOD:PUBLISH
BEGIN:VEVENT
UID:896e8c22fd0fcf773820cf7d0de05da1
CATEGORIES:Komunitní portál
CREATED:20260121T130809
SUMMARY:Koordinační skupina Osoby se zdravotním postižením
DESCRIPTION:
DTSTAMP:20260420T025045
DTSTART:20260603T110000
DTEND:20260603T130000
SEQUENCE:0
TRANSP:OPAQUE
END:VEVENT
END:VCALENDAR