BEGIN:VCALENDAR
VERSION:2.0
PRODID:-//jEvents 2.0 for Joomla//EN
CALSCALE:GREGORIAN
METHOD:PUBLISH
BEGIN:VEVENT
UID:f2f99862ee0474d303d8c3fd68357241
CATEGORIES:Komunitní portál
CREATED:20260121T130920
SUMMARY:Koordinační skupina Senioři
DESCRIPTION:
DTSTAMP:20260420T075238
DTSTART:20260205T120000
DTEND:20260205T140000
SEQUENCE:0
TRANSP:OPAQUE
END:VEVENT
END:VCALENDAR