BEGIN:VCALENDAR
VERSION:2.0
PRODID:-//jEvents 2.0 for Joomla//EN
CALSCALE:GREGORIAN
METHOD:PUBLISH
BEGIN:VEVENT
UID:bde0f6adef2c36a6b54a7bc0671a4d26
CATEGORIES:Komunitní portál
CREATED:20260121T131124
SUMMARY:Koordinační skupina Senioři
DESCRIPTION:
DTSTAMP:20260420T043044
DTSTART:20260611T110000
DTEND:20260611T130000
SEQUENCE:0
TRANSP:OPAQUE
END:VEVENT
END:VCALENDAR