BEGIN:VCALENDAR
VERSION:2.0
PRODID:-//jEvents 2.0 for Joomla//EN
CALSCALE:GREGORIAN
METHOD:PUBLISH
BEGIN:VEVENT
UID:924d3fefe160f8dc1fd002069c72cfa8
CATEGORIES:Komunitní portál
CREATED:20260121T131346
SUMMARY:Koordinační skupina Rodiny, děti a mládež
DESCRIPTION:
DTSTAMP:20260420T043049
DTSTART:20260609T110000
DTEND:20260609T130000
SEQUENCE:0
TRANSP:OPAQUE
END:VEVENT
END:VCALENDAR