BEGIN:VCALENDAR
VERSION:2.0
PRODID:-//jEvents 2.0 for Joomla//EN
CALSCALE:GREGORIAN
METHOD:PUBLISH
BEGIN:VEVENT
UID:93ab72271c9310efacf62fd7e97d6a45
CATEGORIES:Komunitní portál
CREATED:20260121T131724
SUMMARY:Společné jednání KS Senioři a Osoby se zdravotním postižením 
DESCRIPTION:
DTSTAMP:20260420T025110
DTSTART:20260513T110000
DTEND:20260513T140000
SEQUENCE:0
TRANSP:OPAQUE
END:VEVENT
END:VCALENDAR