BEGIN:VCALENDAR
VERSION:2.0
PRODID:-//jEvents 2.0 for Joomla//EN
CALSCALE:GREGORIAN
METHOD:PUBLISH
BEGIN:VEVENT
UID:31b13e8fb2b6c9fe0ccf186ddc97978a
CATEGORIES:Komunitní portál
CREATED:20230424T071547
SUMMARY:KS Senioři
LOCATION:A3 zasedací místnost (přízemí vlevo)
DESCRIPTION:
DTSTAMP:20260426T000525
DTSTART:20230518T110000
DTEND:20230518T130000
SEQUENCE:0
TRANSP:OPAQUE
END:VEVENT
END:VCALENDAR